BEGIN:VCALENDAR
VERSION:2.0
PRODID:-//Depth Hypnosis - ECPv4.9.10//NONSGML v1.0//EN
CALSCALE:GREGORIAN
METHOD:PUBLISH
X-WR-CALNAME:Depth Hypnosis
X-ORIGINAL-URL:https://www.depthhypnosis.org
X-WR-CALDESC:Events for Depth Hypnosis
BEGIN:VTIMEZONE
TZID:UTC
BEGIN:STANDARD
TZOFFSETFROM:+0000
TZOFFSETTO:+0000
TZNAME:UTC
DTSTART:20190101T000000
END:STANDARD
END:VTIMEZONE
BEGIN:VEVENT
DTSTART;TZID=UTC:20190809T170000
DTEND;TZID=UTC:20190809T180000
DTSTAMP:20260422T173318
CREATED:20190623T014901Z
LAST-MODIFIED:20190623T161627Z
UID:2272-1565370000-1565373600@www.depthhypnosis.org
SUMMARY:The Shamanic Journey (Distance Learning)
DESCRIPTION:Cultivate your relationship with your inner wisdom and spiritual guidance to experience healing\, clarify your purpose\, solve problems\, and serve others. This is an online course that is part video and part live online video conference. You will receive links to the videos\, which you can watch at your convenience. And there will be two video conference meetings where you can ask questions of the teacher and learn from the questions and experiences of the other participants. \nTo accommodate ALL time zones\, we offer a choice of two meeting times for each of the two classes. You determine which class series works for you – Class Series A or B. \nClass Series A\nFriday\, August 9\, at 5:00 pm Pacific\nFriday\, August 23\, at 5:00 pm Pacific \nClass Series B\nSaturday\, August 10\, at 9:00 am Pacific\nSaturday\, August 24\, at 9:00 am Pacific \nTo determine the class time best for you\, figure out your timezone compared to San Francisco’s time zone\, which is Pacific Standard Time. Then add or subtract the time difference from the listed start time of the class. If you are five hours ahead\, then the 9:00 am SF start time would be 2:00 pm your time. \nPlease note: The Friday class at 5:00 pm is generally best for people in Southeast Asia\, China\, Japan\, & Australia. And the Saturday class at 9:00 am is generally best for people in North & South America\, Europe\, Africa\, & parts of Russia. In some areas\, like India and Hawaii\, both time zones work. \nRegistration and additional information via sacredstream.org. \n
URL:https://www.depthhypnosis.org/event/the-shamanic-journey-distance-learning-august-2019/2019-08-09/
LOCATION:Distance Learning\, Connect from anywhere!
ORGANIZER;CN="Foundation%20of%20the%20Sacred%20Stream":MAILTO:info@sacredstream.org
END:VEVENT
END:VCALENDAR