BEGIN:VCALENDAR
VERSION:2.0
PRODID:-//Depth Hypnosis - ECPv4.9.10//NONSGML v1.0//EN
CALSCALE:GREGORIAN
METHOD:PUBLISH
X-WR-CALNAME:Depth Hypnosis
X-ORIGINAL-URL:https://www.depthhypnosis.org
X-WR-CALDESC:Events for Depth Hypnosis
BEGIN:VTIMEZONE
TZID:UTC
BEGIN:STANDARD
TZOFFSETFROM:+0000
TZOFFSETTO:+0000
TZNAME:UTC
DTSTART:20200101T000000
END:STANDARD
END:VTIMEZONE
BEGIN:VEVENT
DTSTART;VALUE=DATE:20200131
DTEND;VALUE=DATE:20200201
DTSTAMP:20260425T143530
CREATED:20191229T024058Z
LAST-MODIFIED:20191231T201507Z
UID:2354-1580428800-1580515199@www.depthhypnosis.org
SUMMARY:The Shamanic Journey (Distance Learning)
DESCRIPTION:Cultivate your relationship with your inner wisdom and spiritual guidance to experience healing\, clarify your purpose\, solve problems\, and serve others. This is an online course that is part video and part live online video conference. You will receive links to the videos\, which you can watch at your convenience. And there will be two video conference meetings where you can ask questions of the teacher and learn from the questions and experiences of the other participants. \nClass Series A\nFriday\, January 31\, at 5:00 pm Pacific\nFriday\, February 21\, at 5:00 pm Pacific \nClass Series B\nSaturday\, February 1\, at 9:00 am Pacific\nSaturday\, February 22\, at 9:00 am Pacific \nRegistration and additional information via sacredstream.org. \n
URL:https://www.depthhypnosis.org/event/the-shamanic-journey-distance-learning-january-2020/
LOCATION:Distance Learning\, Connect from anywhere!
ORGANIZER;CN="Foundation%20of%20the%20Sacred%20Stream":MAILTO:info@sacredstream.org
END:VEVENT
END:VCALENDAR